BEGIN:VCALENDAR
VERSION:2.0
PRODID:-//EOSC Association - ECPv6.15.20//NONSGML v1.0//EN
CALSCALE:GREGORIAN
METHOD:PUBLISH
X-WR-CALNAME:EOSC Association
X-ORIGINAL-URL:https://eosc.eu
X-WR-CALDESC:Events for EOSC Association
REFRESH-INTERVAL;VALUE=DURATION:PT1H
X-Robots-Tag:noindex
X-PUBLISHED-TTL:PT1H
BEGIN:VTIMEZONE
TZID:Europe/Rome
BEGIN:DAYLIGHT
TZOFFSETFROM:+0100
TZOFFSETTO:+0200
TZNAME:CEST
DTSTART:20250330T010000
END:DAYLIGHT
BEGIN:STANDARD
TZOFFSETFROM:+0200
TZOFFSETTO:+0100
TZNAME:CET
DTSTART:20251026T010000
END:STANDARD
BEGIN:DAYLIGHT
TZOFFSETFROM:+0100
TZOFFSETTO:+0200
TZNAME:CEST
DTSTART:20260329T010000
END:DAYLIGHT
BEGIN:STANDARD
TZOFFSETFROM:+0200
TZOFFSETTO:+0100
TZNAME:CET
DTSTART:20261025T010000
END:STANDARD
BEGIN:DAYLIGHT
TZOFFSETFROM:+0100
TZOFFSETTO:+0200
TZNAME:CEST
DTSTART:20270328T010000
END:DAYLIGHT
BEGIN:STANDARD
TZOFFSETFROM:+0200
TZOFFSETTO:+0100
TZNAME:CET
DTSTART:20271031T010000
END:STANDARD
END:VTIMEZONE
BEGIN:VEVENT
DTSTART;VALUE=DATE:20261124
DTEND;VALUE=DATE:20261126
DTSTAMP:20260423T142527
CREATED:20251110T122549Z
LAST-MODIFIED:20251110T122549Z
UID:27428-1795478400-1795651199@eosc.eu
SUMMARY:Save the Date: UC4B 2026 in Berlin
DESCRIPTION:Mark your calendars! We are delighted to announce that next year’s Base4NFDI User Conference (UC4B 2026) will be held in Berlin. \nStay tuned for more details about the programme and registration. We look forward to welcoming you! \nIf you are interested in the event\, take a look at the materials from our previous user conferences UC4B2024 and UC4B2025.
URL:https://eosc.eu/events/save-the-date-uc4b-2026-in-berlin
LOCATION:Staatsbibliothek zu Berlin\, Haus Potsdamer Straße
ATTACH;FMTTYPE=image/png:https://eosc.eu/wp-content/uploads/2025/11/StD_UC4B2026.png
END:VEVENT
BEGIN:VEVENT
DTSTART;TZID=Europe/Rome:20261127T090000
DTEND;TZID=Europe/Rome:20261127T130000
DTSTAMP:20260423T142527
CREATED:20260306T151845Z
LAST-MODIFIED:20260407T122205Z
UID:29628-1795770000-1795784400@eosc.eu
SUMMARY:Save the date: EOSC-A 14th General Assembly
DESCRIPTION:The 14th General Assembly meeting of the EOSC Association will be held online on Friday\, 27 November 2026. Save the date in your calendars! More information to follow.
URL:https://eosc.eu/events/eosc-a-14th-general-assembly
LOCATION:Zoom
CATEGORIES:EOSC-A General Assemblies
ATTACH;FMTTYPE=image/jpeg:https://eosc.eu/wp-content/uploads/2026/03/GA14_save-the-date_3x2.jpg
END:VEVENT
END:VCALENDAR