BEGIN:VCALENDAR
VERSION:2.0
PRODID:-//EOSC Association - ECPv6.15.20//NONSGML v1.0//EN
CALSCALE:GREGORIAN
METHOD:PUBLISH
X-WR-CALNAME:EOSC Association
X-ORIGINAL-URL:https://eosc.eu
X-WR-CALDESC:Events for EOSC Association
REFRESH-INTERVAL;VALUE=DURATION:PT1H
X-Robots-Tag:noindex
X-PUBLISHED-TTL:PT1H
BEGIN:VTIMEZONE
TZID:Europe/Rome
BEGIN:DAYLIGHT
TZOFFSETFROM:+0100
TZOFFSETTO:+0200
TZNAME:CEST
DTSTART:20240331T010000
END:DAYLIGHT
BEGIN:STANDARD
TZOFFSETFROM:+0200
TZOFFSETTO:+0100
TZNAME:CET
DTSTART:20241027T010000
END:STANDARD
BEGIN:DAYLIGHT
TZOFFSETFROM:+0100
TZOFFSETTO:+0200
TZNAME:CEST
DTSTART:20250330T010000
END:DAYLIGHT
BEGIN:STANDARD
TZOFFSETFROM:+0200
TZOFFSETTO:+0100
TZNAME:CET
DTSTART:20251026T010000
END:STANDARD
BEGIN:DAYLIGHT
TZOFFSETFROM:+0100
TZOFFSETTO:+0200
TZNAME:CEST
DTSTART:20260329T010000
END:DAYLIGHT
BEGIN:STANDARD
TZOFFSETFROM:+0200
TZOFFSETTO:+0100
TZNAME:CET
DTSTART:20261025T010000
END:STANDARD
END:VTIMEZONE
BEGIN:VEVENT
DTSTART;VALUE=DATE:20250630
DTEND;VALUE=DATE:20250704
DTSTAMP:20260421T103844
CREATED:20250605T075659Z
LAST-MODIFIED:20250605T075757Z
UID:22798-1751241600-1751587199@eosc.eu
SUMMARY:The LifeWatch ERIC Biodiversity & Ecosystem eScience Conference
DESCRIPTION:The Biodiversity and Ecosystem eScience Conference 2025 brings together researchers\, policymakers\, and experts to tackle the Triple Planetary Crisis (climate change\, biodiversity loss\, and pollution) through eScience and European Research Infrastructures (RIs). \nThis year’s conference focuses on how cutting-edge eScience and European Research Infrastructures can work together to develop innovative solutions for a sustainable future. With an agenda spanning from thematic services and groundbreaking research\, to hands-on demonstrations\, the event will highlight the vital role of technology\, data\, and collaboration in tackling environmental crises. \nOver three days\, participants will engage in plenaries on topics like ecological responses to climate change\, habitat mapping\, and biodiversity monitoring. Hands-on activities\, poster presentations\, and training sessions will provide opportunities to dive deeper into the latest advancements in Virtual Research Environments (VREs)\, Virtual Laboratories (vLabs)\, and more. \nThe conference is open to researchers in the domain of biodiversity\, ecosystems and eScience\, and particularly welcomes the participation of early career scientists\, including PhD and Master Students. \nThe BEeS 2025 Conference will be hosted by the Hellenic Centre for Marine Research (HCMR)\, Institute of Marine Biology\, Biotechnology and Aquaculture (IMBBC).
URL:https://eosc.eu/events/the-lifewatch-eric-biodiversity-ecosystem-escience-conference
LOCATION:Heraklion\, Greece
CATEGORIES:Other events
ATTACH;FMTTYPE=image/jpeg:https://eosc.eu/wp-content/uploads/2025/06/COVER-COMMUNITY-2025-5-scaled-1.jpg
END:VEVENT
BEGIN:VEVENT
DTSTART;VALUE=DATE:20250702
DTEND;VALUE=DATE:20250703
DTSTAMP:20260421T103844
CREATED:20250616T072533Z
LAST-MODIFIED:20250616T081257Z
UID:23375-1751414400-1751500799@eosc.eu
SUMMARY:LIFES Conference
DESCRIPTION:Join a vibrant and growing community of public and private partners who work together to realise a new\, machine-assisted and equitable environment for global open innovation. Meet internationally renowned visionaries as well as hands-on practical implementers. \nVisit the LIFES conference 2025 on 2 July on the theme of jointly evolving the ecosystem for FAIR & equitable data reuse. We have some great speakers lined up that will discuss FAIR and equitable data reuse in the context of open science\, the global south and the European Union. \nThe conference will be highly interactive with several panels on topics like FAIR data visiting\, FAIR as fully AI-ready and equitable reuse. During the conference there will be many opportunities for networking. The conference is also part of the Dutch BioScience week.
URL:https://eosc.eu/events/lifes-conference
LOCATION:Poortgebouw\, Leiden\, Netherlands
CATEGORIES:Other events
ATTACH;FMTTYPE=image/png:https://eosc.eu/wp-content/uploads/2025/06/download-1-1.png
END:VEVENT
BEGIN:VEVENT
DTSTART;VALUE=DATE:20250702
DTEND;VALUE=DATE:20250705
DTSTAMP:20260421T103844
CREATED:20241129T080438Z
LAST-MODIFIED:20241129T080438Z
UID:19106-1751414400-1751673599@eosc.eu
SUMMARY:LIBER 2025
DESCRIPTION:LIBER’s Annual Conference is one of the most important gatherings for research library professionals in Europe. \nIt has been a main LIBER activity for over 40 years and has continually grown in size and scope. Each year\, around 300-400 delegates spend three days networking\, collaborating and learning from one another. \nThrough our keynote speakers and interactive workshops\, delegates have an opportunity to identify the most pressing needs for research libraries and to share information and ideas for addressing those needs.
URL:https://eosc.eu/events/liber-2025
LOCATION:Lausanne\, Switzerland
CATEGORIES:Other events
ATTACH;FMTTYPE=image/png:https://eosc.eu/wp-content/uploads/2024/11/Untitled-design-15.png
END:VEVENT
BEGIN:VEVENT
DTSTART;VALUE=DATE:20250707
DTEND;VALUE=DATE:20250709
DTSTAMP:20260421T103844
CREATED:20250425T055741Z
LAST-MODIFIED:20250603T084320Z
UID:22116-1751846400-1752019199@eosc.eu
SUMMARY:Open Science: Monitoring progress\, assessing impact
DESCRIPTION:Open science\, as emphasised in the UNESCO Recommendation on Open Science\, promotes inclusive\, transparent\, and collaborative research practices\, ensuring that scientific knowledge is accessible to all. As global adoption accelerates\, monitoring becomes essential to assess impact\, identify gaps\, and strengthen implementation strategies. \nLaunched in September 2022\, Open Science Impact Pathways (PathOS) is a three-year\, European Union-funded project dedicated to identifying and measuring the multifaceted impacts of open science. This conference\, Open Science: Monitoring Progress\, Assessing Impact\, is organised in collaboration with UNESCO\, PathOS\, the European Open Science Cloud (EOSC) Track\, the Open Science Monitoring Initiative (OSMI)\, and OpenAIRE. It marks the culmination of PathOS\, providing a platform to share insights\, validate findings\, and support the advancement of the principles outlined in the UNESCO Recommendation on Open Science. The event also aims to foster collaboration across diverse initiatives. \nRegistration for online and in-person participation\nDue to limited venue capacity and high demand\, in-person registration will be restricted. \n\nIn-person: Please click the “Registration” button located either on the left side or at the bottom of the page.\nOnline: To join the event online via Zoom\, please complete your registration separately for Day 1 and Day 2.\n\nFurther information\nMore details\, including information on the conference agenda\, and additional resources\, will be made available soon. \nPlease note that doors will close 30 minutes after the event’s start time. Attendees are encouraged to arrive promptly to secure their entry.
URL:https://eosc.eu/events/open-science-monitoring-progress-assessing-impact
LOCATION:Paris\, France
CATEGORIES:Other events
ATTACH;FMTTYPE=image/png:https://eosc.eu/wp-content/uploads/2025/04/OS-Monitoring.png
END:VEVENT
BEGIN:VEVENT
DTSTART;VALUE=DATE:20250707
DTEND;VALUE=DATE:20250712
DTSTAMP:20260421T103844
CREATED:20250708T052835Z
LAST-MODIFIED:20250708T101723Z
UID:23976-1751846400-1752278399@eosc.eu
SUMMARY:Data Steward School 2025: Digital competencies for Open Science
DESCRIPTION:From 7 to 11 July 2025\, the University of Silesia will host Data Steward School 2025\, bringing together 26 participants from 15 Polish universities and 14 leading research data management (RDM) experts from both Polish and international institutions. \nThe Data Steward School is a new initiative of the University of Silesia in Katowice\, aimed at developing knowledge and digital competencies in research data management. Although this is the first edition organised by the University of Silesia\, the program was originally developed in 2020 and implemented by Visnea Inc. until 2024. It is now delivered by the University under a licensing agreement. \nThe training is structured into three complementary parts: \n\nThe core module is a five-day intensive course introducing participants to the research data lifecycle\, as well as practices and standards in data management. One of the modules is specifically dedicated to the European Open Science Cloud (EOSC)\, highlighting its role in shaping the future of RDM in Europe\nThe specialisation module offers an opportunity to deepen knowledge in a specific disciplinary context.\nMentoring consists of one-on-one work with an expert\, supporting participants in developing selected areas of competence through personalised guidance.\n\nDSS 2025 Experts\nThe program is delivered by outstanding experts from the following institutions (in alphabetical order): \n\nACK Cyfronet AGH (Poland)\nCzech Technical University in Prague (Czech Republic)\nDigital Curation Centre (United Kingdom)\nInstitute of Oceanology of the Polish Academy of Sciences\nNational Science Centre (Poland)\nGdańsk University of Technology\nPoznań Supercomputing and Networking Centre\nCracow University of Economics\nUniversity of Silesia in Katowice\nTechnical University of Vienna (Austria)\nTechnical University of Berlin (Germany)\nWorld Values Survey Association (Austria)\nVisnea Inc. (Canada)\n\nThis year\, DSS is held under the honorary patronage of the World Values Survey Association (WVSA). WVSA is one of the oldest and largest global survey research programs focused on human values and beliefs. Since 1981\, WVSA has collected data on social and cultural change\, building a series that spans over 40 years and includes data from more than 120 countries. This prestigious recognition highlights the vital role of Data Stewards in ensuring data quality and the responsible use of data in research of global relevance.
URL:https://eosc.eu/events/data-steward-school-2025-digital-competencies-for-open-science
CATEGORIES:Other events
ATTACH;FMTTYPE=image/png:https://eosc.eu/wp-content/uploads/2025/07/DSS_GLOBA.png
END:VEVENT
BEGIN:VEVENT
DTSTART;TZID=Europe/Rome:20250708T130000
DTEND;TZID=Europe/Rome:20250708T143000
DTSTAMP:20260421T103844
CREATED:20250707T062010Z
LAST-MODIFIED:20250707T062323Z
UID:23947-1751979600-1751985000@eosc.eu
SUMMARY:Making space on the shelves: Open Access books in Open Science
DESCRIPTION:The last ten years have witnessed an incredible surge in Open Access publishing\, and now this transformative movement is making significant strides in the realm of books. This webinar will explore why the rise of Open Access books is so vital\, particularly for amplifying the reach and impact of research in the Arts\, Humanities\, and Social Sciences fields where monographs and edited collections remain extremely popular. Led by two experts from COPIM (Community-led Open Publication Infrastructures for Monographs)\, the webinar will explore some of the unique considerations for Open Access in the book world (and how they differ from journal priorities)\, and trace the fascinating journey of the past and future development of the Open Access Book movement. \n\n\n\n\n\n\n\n\n\n\n\n\nWhat will be covered\n\n\n\n\n\nThe role of Open Access books in a local and global Open Science ecosystem\nFunding Open Access books for libraries\, publishers and authors\nOverview of tools available to scholarly publishers and scholarly libraries to enable Open Access book publishing for and with their scholarly communities\n\n\n\n\n\n\n\n\n\n\n\n\n\nWhat you will learn\n\n\n\n\nThis webinar will provide valuable insights for researchers and librarians in the Arab world regarding the following topics: \n\nThe role of books in the Open Access ecosystem\nThe development of Open Access funding models\, particularly those relating to books\nThe contemporary global Open Access ecology\nThe evolution and continued growth of open infrastructures for Open Access publishing\nThe benefits and value of diamond and community-led open access models and operations
URL:https://eosc.eu/events/making-space-on-the-shelves-open-access-books-in-open-science
LOCATION:Online
CATEGORIES:Other events
ATTACH;FMTTYPE=image/png:https://eosc.eu/wp-content/uploads/2025/07/unnamed-1.png
END:VEVENT
BEGIN:VEVENT
DTSTART;TZID=Europe/Rome:20250708T150000
DTEND;TZID=Europe/Rome:20250708T163000
DTSTAMP:20260421T103844
CREATED:20250701T105821Z
LAST-MODIFIED:20250701T105900Z
UID:23752-1751986800-1751992200@eosc.eu
SUMMARY:EOSC EU Node: Ask Me Anything
DESCRIPTION:Join the second Ask Me Anything (AMA) session and unlock the full potential of the EOSC EU Node for your research. \nSpeakers & Moderators: Peter Szegedi\, Spiros Athanasiou\, Maja Dolinar \nWho is it for? \nResearchers\, data scientists\, and computational experts across the EU and associated countries working in Open Science\, data-intensive research\, and collaborative projects. \nWhat’s on the agenda? \nThe session will include discussions on: \n\nNew developments in the Node (updated User Access Policy\, credit system\, and training materials)\nCollaboration across institutions\nDiscovering new research tools & services\n\nThis interactive Ask Me Anything session is your chance to explore how the EOSC EU Node can transform the way you conduct research. Bring your questions and get expert insights! \nHow will the session work? \n\nInteractive Q&A – Ask your questions about the EOSC EU Node’s services and capabilities\nLive engagement – Submit and upvote questions using Zoom’s Q&A feature\nFocused discussions – This session covers new developments\, research collaboration\, and EOSC EU Node tools and services.
URL:https://eosc.eu/events/eosc-eu-node-ask-me-anything
LOCATION:Online
CATEGORIES:Other events
ATTACH;FMTTYPE=image/webp:https://eosc.eu/wp-content/uploads/2025/06/2025_07_AMA.webp
END:VEVENT
BEGIN:VEVENT
DTSTART;TZID=Europe/Rome:20250709T103000
DTEND;TZID=Europe/Rome:20250709T140000
DTSTAMP:20260421T103844
CREATED:20250702T060329Z
LAST-MODIFIED:20250702T060329Z
UID:23889-1752057000-1752069600@eosc.eu
SUMMARY:INSPIRING ERA Exchange: EU Copyright & Data Access Rights for Research in the Age of AI
DESCRIPTION:On 9 July 2025 (Time: 10:30 – 15:00)\, the INSPIRING ERA project will host an in-person exchange dedicated to one of the most dynamic and debated areas in research policy today: EU Copyright Rules and Data Access Rights for Research in the Age of AI. The event will take place at the historic Bibliothèque Polonaise de Paris\, bringing together leading voices from across Europe’s research\, legal\, and policy communities. \nWhy Attend? \nThe rapid advance of artificial intelligence and data-driven research has brought EU copyright and data legislation into sharp focus. Researchers\, policymakers\, legal experts\, and open science professionals face both opportunities and challenges as they navigate new requirements for data sharing and reuse. This INSPIRING ERA Exchange aims to: \n•    Clarify the impact of EU copyright and data legislation on research and AI \n•    Identify barriers and solutions for legal data sharing and reuse \n•    Develop policy recommendations to foster knowledge circulation and innovation across Europe \nProgramme Highlights: \n•    Open Science\, Copyright and data legislative framework: Bertil EGGER BECK – DG RTD\, EC; \n•    Digital Service Act – Data access rights for researchers: DG CNECT (TBC); \n•    Research exceptions and Data Access Rights for research of the EU framework: Kacper SZKALEJ – University of Amsterdam; \n•    Navigating Legal Requirements from the Researcher’s Perspective: Thomas MARGONI – KU Leuven; \n•    General AI models in service of Open Science: Teresa NOBRE – COMMUNIA association; \n•    Research Security as a critical factor for Knowledge Valorisation – the Synergy Framework: Julia PRIESS-BUCHHEIT – IP4OS\, Kiel University. \nJoin the Conversation \nThe INSPIRING ERA Exchange on EU Copyright & Data Access Rights for Research in the Age of AI is part of our ongoing commitment to supporting the European Research Area (ERA) Policy Agenda. By bringing together a diverse community of stakeholders\, we aim to foster mutual learning\, share best practices\, and accelerate the adoption of effective legal and policy solutions. \nFor more information\, visit the INSPIRING ERA website. \nShould you have any questions\, please contact maciej.woszczyk@ncbr.gov.pl or maciej.zdanowicz@ncbr.gov.pl \nThis event is organized in cooperation with IP4OS\, an EU-funded project focused on harmonizing intellectual property management with Open Science practices.
URL:https://eosc.eu/events/inspiring-era-exchange-eu-copyright-data-access-rights-for-research-in-the-age-of-ai
LOCATION:Paris\, Bibliothèque Polonaise de Paris (6 Quai d’Orléans\, 75004 Paris)
CATEGORIES:HE Project event
ATTACH;FMTTYPE=image/jpeg:https://eosc.eu/wp-content/uploads/2025/07/banner-Paris-09.07.2025-IEE-action-1and2-1024x576-1.jpg
END:VEVENT
BEGIN:VEVENT
DTSTART;TZID=Europe/Rome:20250723T150000
DTEND;TZID=Europe/Rome:20250723T160000
DTSTAMP:20260421T103844
CREATED:20250626T124617Z
LAST-MODIFIED:20250626T132839Z
UID:23646-1753282800-1753286400@eosc.eu
SUMMARY:6th EOSC Coffee Lecture @ ZBW
DESCRIPTION:This 30-minute Coffee Lecture by EOSC-A President Klaus Tochtermann\, entitled “Die wachsende EOSC-Föderation – The Next Wave”\, will focus specifically on providing an update about the EOSC Federation\, and the support\, timeline and inclusion of the candidate EOSC Nodes. A 30-minute Q&A will follow. \nThe webinar will be held in German.
URL:https://eosc.eu/events/eosc-coffee-lecture-2
LOCATION:Online
CATEGORIES:Other events
ATTACH;FMTTYPE=image/png:https://eosc.eu/wp-content/uploads/2025/06/download-7-1.png
END:VEVENT
END:VCALENDAR