BEGIN:VCALENDAR
VERSION:2.0
PRODID:-//EOSC Association - ECPv6.15.20//NONSGML v1.0//EN
CALSCALE:GREGORIAN
METHOD:PUBLISH
X-ORIGINAL-URL:https://eosc.eu
X-WR-CALDESC:Events for EOSC Association
REFRESH-INTERVAL;VALUE=DURATION:PT1H
X-Robots-Tag:noindex
X-PUBLISHED-TTL:PT1H
BEGIN:VTIMEZONE
TZID:Europe/Rome
BEGIN:DAYLIGHT
TZOFFSETFROM:+0100
TZOFFSETTO:+0200
TZNAME:CEST
DTSTART:20240331T010000
END:DAYLIGHT
BEGIN:STANDARD
TZOFFSETFROM:+0200
TZOFFSETTO:+0100
TZNAME:CET
DTSTART:20241027T010000
END:STANDARD
BEGIN:DAYLIGHT
TZOFFSETFROM:+0100
TZOFFSETTO:+0200
TZNAME:CEST
DTSTART:20250330T010000
END:DAYLIGHT
BEGIN:STANDARD
TZOFFSETFROM:+0200
TZOFFSETTO:+0100
TZNAME:CET
DTSTART:20251026T010000
END:STANDARD
BEGIN:DAYLIGHT
TZOFFSETFROM:+0100
TZOFFSETTO:+0200
TZNAME:CEST
DTSTART:20260329T010000
END:DAYLIGHT
BEGIN:STANDARD
TZOFFSETFROM:+0200
TZOFFSETTO:+0100
TZNAME:CET
DTSTART:20261025T010000
END:STANDARD
END:VTIMEZONE
BEGIN:VEVENT
DTSTART;TZID=Europe/Rome:20250508T160000
DTEND;TZID=Europe/Rome:20250508T170000
DTSTAMP:20260420T113944
CREATED:20250507T094428Z
LAST-MODIFIED:20250507T110015Z
UID:22366-1746720000-1746723600@eosc.eu
SUMMARY:5th EOSC Coffee Lecture: The EOSC Federation – Current status and next steps
DESCRIPTION:The European Open Science Cloud (EOSC) is a pioneering initiative that aims to create an inclusive and open space for the exchange and use of research data in Europe. \nFree EOSC Coffee Lectures at the ZBW provide clarity about what the EOSC is and what it is not\, present the current status and relevant developments related to the EOSC\, and demonstrate how one can get involved in its activities. The development phase of the so-called “EOSC Federation” has now begun; important decisions have been made\, and measures for the further development of the Federation have been defined. \nThe EOSC Coffee Lectures invite everyone who deals with research data in their scientific work or is involved in the implementation and operation of research data infrastructures. \nThe Coffee Lectures will be held in German by Prof. Dr. Klaus Tochtermann \, who is\, among other things\, a member of the Board of Directors of the EOSC Association (EOSC-A) and is also involved in several NFDI consortia and a member of the NFDI Senate.
URL:https://eosc.eu/events/5th-eosc-coffee-lecture-the-eosc-federation-current-status-and-next-steps
LOCATION:Online
CATEGORIES:Other events
ATTACH;FMTTYPE=image/jpeg:https://eosc.eu/wp-content/uploads/2025/05/portrait-woman-with-laptop-working-scaled-1.jpg
END:VEVENT
END:VCALENDAR