BEGIN:VCALENDAR
VERSION:2.0
PRODID:-//EOSC Association - ECPv6.15.20//NONSGML v1.0//EN
CALSCALE:GREGORIAN
METHOD:PUBLISH
X-ORIGINAL-URL:https://eosc.eu
X-WR-CALDESC:Events for EOSC Association
REFRESH-INTERVAL;VALUE=DURATION:PT1H
X-Robots-Tag:noindex
X-PUBLISHED-TTL:PT1H
BEGIN:VTIMEZONE
TZID:Europe/Rome
BEGIN:DAYLIGHT
TZOFFSETFROM:+0100
TZOFFSETTO:+0200
TZNAME:CEST
DTSTART:20230326T010000
END:DAYLIGHT
BEGIN:STANDARD
TZOFFSETFROM:+0200
TZOFFSETTO:+0100
TZNAME:CET
DTSTART:20231029T010000
END:STANDARD
BEGIN:DAYLIGHT
TZOFFSETFROM:+0100
TZOFFSETTO:+0200
TZNAME:CEST
DTSTART:20240331T010000
END:DAYLIGHT
BEGIN:STANDARD
TZOFFSETFROM:+0200
TZOFFSETTO:+0100
TZNAME:CET
DTSTART:20241027T010000
END:STANDARD
BEGIN:DAYLIGHT
TZOFFSETFROM:+0100
TZOFFSETTO:+0200
TZNAME:CEST
DTSTART:20250330T010000
END:DAYLIGHT
BEGIN:STANDARD
TZOFFSETFROM:+0200
TZOFFSETTO:+0100
TZNAME:CET
DTSTART:20251026T010000
END:STANDARD
END:VTIMEZONE
BEGIN:VEVENT
DTSTART;TZID=Europe/Rome:20240927T100000
DTEND;TZID=Europe/Rome:20240927T120000
DTSTAMP:20260420T114348
CREATED:20240916T100707Z
LAST-MODIFIED:20240916T100707Z
UID:16052-1727431200-1727438400@eosc.eu
SUMMARY:Shaping the Future of Cultural Heritage:  “Connecting the Cultural Heritage Cloud with the common European data space for  cultural heritage and the European Open Science Cloud”
DESCRIPTION:The Cultural Heritage Cloud – or European Collaborative Cloud for Cultural Heritage (ECCCH) – is a European Union initiative to create a digital infrastructure that will connect cultural heritage researchers and professionals across the EU. It will develop specific digital collaborative tools for the sector while removing barriers for smaller and remote institutions. The goal is to help cultural heritage institutions\, research organisations and other professional organisations of all kinds and sizes to work with their digital objects in a more visible\, interconnected\, harmonised\, and informed way\, to successfully cope with the challenges the digital transition poses to the sector and seize its opportunities. The Cultural Heritage Cloud will add a new digital dimension to cultural heritage preservation\, conservation\, restoration and enhancement by providing cutting-edge technologies\, for instance for the digitization of artefacts or for researching artworks. The implementation of this initiative has now begun with the EU-funded project ECHOES – European Cloud for Heritage OpEn Science\, which started on the 1 of June 2024. \nTwo other initiatives are currently running at European level: \n\nfunded by the Digital Europe programme\, the common European data space for cultural heritage is an EU flagship initiative to accelerate the digital transformation of the sector and foster creation\, access and reuse of heritage data.\nThe vision for the European Open Science Cloud (EOSC) is to put in place a system for researchers in Europe to store\, share\, process\, analyse\, and reuse data within and across disciplines and borders.\n\nIn this webinar\, we’ll learn more about the Cloud and two other European initiatives\, and how they are interconnected and complementary\, how these initiatives interact with the Cloud\, and what the added value of such connections is for the cultural heritage community.
URL:https://eosc.eu/events/shaping-the-future-of-cultural-heritage-connecting-the-cultural-heritage-cloud-with-the-common-european-data-space-for-cultural-heritage-and-the-european-open-science-cloud
LOCATION:Online
CATEGORIES:Other events
ATTACH;FMTTYPE=image/jpeg:https://eosc.eu/wp-content/uploads/2024/09/CulturalHeritage_Webinar27-9.jpg
END:VEVENT
END:VCALENDAR