BEGIN:VCALENDAR
VERSION:2.0
PRODID:-//EOSC Association - ECPv6.15.20//NONSGML v1.0//EN
CALSCALE:GREGORIAN
METHOD:PUBLISH
X-WR-CALNAME:EOSC Association
X-ORIGINAL-URL:https://eosc.eu
X-WR-CALDESC:Events for EOSC Association
REFRESH-INTERVAL;VALUE=DURATION:PT1H
X-Robots-Tag:noindex
X-PUBLISHED-TTL:PT1H
BEGIN:VTIMEZONE
TZID:Europe/Rome
BEGIN:DAYLIGHT
TZOFFSETFROM:+0100
TZOFFSETTO:+0200
TZNAME:CEST
DTSTART:20230326T010000
END:DAYLIGHT
BEGIN:STANDARD
TZOFFSETFROM:+0200
TZOFFSETTO:+0100
TZNAME:CET
DTSTART:20231029T010000
END:STANDARD
BEGIN:DAYLIGHT
TZOFFSETFROM:+0100
TZOFFSETTO:+0200
TZNAME:CEST
DTSTART:20240331T010000
END:DAYLIGHT
BEGIN:STANDARD
TZOFFSETFROM:+0200
TZOFFSETTO:+0100
TZNAME:CET
DTSTART:20241027T010000
END:STANDARD
BEGIN:DAYLIGHT
TZOFFSETFROM:+0100
TZOFFSETTO:+0200
TZNAME:CEST
DTSTART:20250330T010000
END:DAYLIGHT
BEGIN:STANDARD
TZOFFSETFROM:+0200
TZOFFSETTO:+0100
TZNAME:CET
DTSTART:20251026T010000
END:STANDARD
END:VTIMEZONE
BEGIN:VEVENT
DTSTART;TZID=Europe/Rome:20240925T130000
DTEND;TZID=Europe/Rome:20240925T150000
DTSTAMP:20260420T112538
CREATED:20240814T065345Z
LAST-MODIFIED:20240814T065345Z
UID:15609-1727269200-1727276400@eosc.eu
SUMMARY:Advancing FAIR Policies and Practices in Tunisia
DESCRIPTION:The event will be virtually hosted by CNUDST – University National Center of Scientific and Technical Documentation. \nThe aim of this event is to promote the ongoing work being carried out by CNUDST to advance FAIR policies and practices in Tunisia. The event will also provide an introduction to the FAIR-IMPACT project to the research community in Tunisia. \n\n\n\n\nTarget audience:  RDM community at large\, data support staff\, researchers and policy makers at universities. \nLanguage: mainly in French but some content will be presented in English \nDate: 25 September 2024\, 13:00 – 14:45 CEST \nModerator: Chokri Ben Romdhane\, IT Senior Analyst\, CNUDST \n  \nAgenda \n\n\n\nTime (CEST)\nTitle\nPresenter\n\n\n13:00-13:10\nWelcome and introduction\nAmel Smaoui Chemli\, CNUDST DG\n\n\n13:10-13:25\nOverview of the FAIR-IMPACT project\nJoy Davidson\, FAIR-IMPACT and DCC\n\n\n13:25-13:40\nPresentation de l’action de support NLI\nSalome Landel\, FAIR-IMPACT and CNRS\n\n\n13:40-13:55\nFAIR Tunisian Action Plan\nChokri Ben Romdhane\, IT Senior Analyst\, CNUDST\n\n\n13:55-14:10\nAction Plan to improve PIST’s FAIR capabilities\nSalaheddine Ben Ali\, Senior Librarian\, CNUDST\n\n\n14:10-14:25\nConsortium DOI Tunisian\nBessem Aamira\, IT Senior Engineering\, CNUDST\n\n\n14:25-14:45\nOpen discussion and wrap up\nChokri Ben Romdhane\, IT Senior Analyst\, CNUDST\n\n\n\n 
URL:https://eosc.eu/events/advancing-fair-policies-and-practices-in-tunisia
LOCATION:Online
CATEGORIES:Other events
ATTACH;FMTTYPE=image/jpeg:https://eosc.eu/wp-content/uploads/2024/08/National-Roadshow-Tunisia.jpg
END:VEVENT
END:VCALENDAR