BEGIN:VCALENDAR
VERSION:2.0
PRODID:-//EOSC Association - ECPv6.15.20//NONSGML v1.0//EN
CALSCALE:GREGORIAN
METHOD:PUBLISH
X-WR-CALNAME:EOSC Association
X-ORIGINAL-URL:https://eosc.eu
X-WR-CALDESC:Events for EOSC Association
REFRESH-INTERVAL;VALUE=DURATION:PT1H
X-Robots-Tag:noindex
X-PUBLISHED-TTL:PT1H
BEGIN:VTIMEZONE
TZID:Europe/Rome
BEGIN:DAYLIGHT
TZOFFSETFROM:+0100
TZOFFSETTO:+0200
TZNAME:CEST
DTSTART:20230326T010000
END:DAYLIGHT
BEGIN:STANDARD
TZOFFSETFROM:+0200
TZOFFSETTO:+0100
TZNAME:CET
DTSTART:20231029T010000
END:STANDARD
BEGIN:DAYLIGHT
TZOFFSETFROM:+0100
TZOFFSETTO:+0200
TZNAME:CEST
DTSTART:20240331T010000
END:DAYLIGHT
BEGIN:STANDARD
TZOFFSETFROM:+0200
TZOFFSETTO:+0100
TZNAME:CET
DTSTART:20241027T010000
END:STANDARD
BEGIN:DAYLIGHT
TZOFFSETFROM:+0100
TZOFFSETTO:+0200
TZNAME:CEST
DTSTART:20250330T010000
END:DAYLIGHT
BEGIN:STANDARD
TZOFFSETFROM:+0200
TZOFFSETTO:+0100
TZNAME:CET
DTSTART:20251026T010000
END:STANDARD
END:VTIMEZONE
BEGIN:VEVENT
DTSTART;VALUE=DATE:20240917
DTEND;VALUE=DATE:20240919
DTSTAMP:20260420T112413
CREATED:20240813T084219Z
LAST-MODIFIED:20240813T084219Z
UID:15602-1726531200-1726703999@eosc.eu
SUMMARY:NISO Plus 2024 Global/Online
DESCRIPTION:NISO Plus 2024 Global/Online is a virtual event happening September 17-18\, 2024. Building on our track record of engagement and conversation\, we’re bringing the same quality of content to this year’s event. Keynotes and dozens of amazing speakers from around the world will share their knowledge and expertise on important topics for the information community—and encourage you to join the conversation in the live discussions. \nScheduled in two blocks of time to enable attendance from as many time zones as possible\, there will be plenty for you to see and do (almost!) around the clock if you wish. Or you can pick and choose to create the best experience for your interests. \nMost presentations will be pre-recorded and screened during the live conference session(with chat) followed by discussion. Registration includes access to all content before\, during\, and after the conference. \nThere are a number of discounts available\, including for NISO members (if you need to check whether your organization has a membership\, you can do so here).
URL:https://eosc.eu/events/niso-plus-2024-global-online
LOCATION:Online
CATEGORIES:Other events
ATTACH;FMTTYPE=image/png:https://eosc.eu/wp-content/uploads/2024/08/NISO-Plus-2024-Sept-Eventbrite.png
END:VEVENT
BEGIN:VEVENT
DTSTART;VALUE=DATE:20240917
DTEND;VALUE=DATE:20240919
DTSTAMP:20260420T112413
CREATED:20240819T093124Z
LAST-MODIFIED:20240819T093124Z
UID:15628-1726531200-1726703999@eosc.eu
SUMMARY:Open Science Festival
DESCRIPTION:What is Open Science? How can openness and the culture of sharing be practiced and promoted in science? What methods are there to live more openness in scientific practice? Under the motto  Meet\, Share\, Inspire\, Care\, the 3rd Open Science Festival in Germany  offers the opportunity to pursue these and other questions\, to network and to learn from one another. \nOpen Science creates encounters within and with science\, enables access to knowledge\, data and research processes. Openness as a principle shapes the framework conditions of science. Open access and open data facilitate access to scientific findings. Open standards and methods enable cooperation and are inspiration for new research approaches. At the same time\, Open Science rethinks the relationship between science and society.  \nThe 3rd Open Science Festival is aimed equally at newcomers\, interested parties and experts and aims to enable encounters and exchanges in a wide variety of formats. Whether students or scientists\, research managers or decision-makers\, science journalists or interested members of the public\, the Rhine-Main Universities cordially invite you to the Johannes Gutenberg University Mainz from September 17-18\, 2024 . \nWhat awaits you: \n\nA first-class keynote and panel discussions on the potentials and challenges of open science with national and international experts\nIgnite Talks about successes and stumbling blocks in the scientific practice of Open Science\nWorkshops with practitioners from the Open Science Community\nA poster slam to get to know various projects of Open Science enthusiasts\nA marketplace with information on Open Science\nSpeed ​​networking to get to know the other participants\n\nThis year’s Open Science Festival is based on a concept from the Netherlands . The first German festivals took place in Hanover and Cologne .
URL:https://eosc.eu/events/open-science-festival
LOCATION:Mainz\, Germany
CATEGORIES:Other events
ATTACH;FMTTYPE=image/png:https://eosc.eu/wp-content/uploads/2024/08/conference-banner_open-science_2.png
END:VEVENT
END:VCALENDAR